BEGIN:VCALENDAR
VERSION:2.0
PRODID:-//www.developmenthomes.org//NONSGML kigkonsult.se iCalcreator 2.30.
 10//
CALSCALE:GREGORIAN
METHOD:PUBLISH
UID:5b157634-363f-4628-9147-1876d174744d
X-WR-CALDESC:Join us for a week of celebration of the exceptional and essen
 tial work of Direct Support Professionals (DSPs)\, who provide vital suppo
 rt services for people with intellectual and developmental disabilities ev
 ery day of the year.
X-WR-RELCALID:26a77e39a2b63ce9d5c9f78ebab63964
X-WR-TIMEZONE:America/Chicago
BEGIN:VTIMEZONE
TZID:America/Chicago
BEGIN:STANDARD
TZNAME:CST
DTSTART:20201101T020000
TZOFFSETFROM:-0500
TZOFFSETTO:-0600
RDATE:20211107T020000
RDATE:20221106T020000
END:STANDARD
BEGIN:DAYLIGHT
TZNAME:CDT
DTSTART:20210314T020000
TZOFFSETFROM:-0600
TZOFFSETTO:-0500
RDATE:20220313T020000
RDATE:20230312T020000
END:DAYLIGHT
END:VTIMEZONE
BEGIN:VEVENT
UID:ec5f8130-8918-46d6-984e-7dca24db4ca3
DTSTAMP:20260424T002133Z
DESCRIPTION:Join us for a week of celebration of the exceptional and essent
 ial work of Direct Support Professionals (DSPs)\, who provide vital suppor
 t services for people with intellectual and developmental disabilities eve
 ry day of the year.
DTSTART;TZID=America/Chicago:20210912T000000
DTEND;TZID=America/Chicago:20210918T235900
LOCATION:
SUMMARY:DSP WEEK
END:VEVENT
END:VCALENDAR
