BEGIN:VCALENDAR
VERSION:2.0
PRODID:-//www.developmenthomes.org//NONSGML kigkonsult.se iCalcreator 2.30.
 10//
CALSCALE:GREGORIAN
METHOD:PUBLISH
UID:4336e9bf-9548-46f3-ae1a-314dda84c904
X-WR-CALDESC:Grilling season is almost over!\nThis Friday enjoy a burger or
  brat for lunch Grilled by DHI!!! \nFrom 11am-1pm in the DHI parking lot  
      \n
X-WR-RELCALID:b5c622fc6e38c66e6956a5587d0f50ff
X-WR-TIMEZONE:America/Chicago
BEGIN:VTIMEZONE
TZID:America/Chicago
BEGIN:STANDARD
TZNAME:CST
DTSTART:20201101T020000
TZOFFSETFROM:-0500
TZOFFSETTO:-0600
RDATE:20211107T020000
RDATE:20221106T020000
END:STANDARD
BEGIN:DAYLIGHT
TZNAME:CDT
DTSTART:20210314T020000
TZOFFSETFROM:-0600
TZOFFSETTO:-0500
RDATE:20220313T020000
RDATE:20230312T020000
END:DAYLIGHT
END:VTIMEZONE
BEGIN:VEVENT
UID:019c967d-d311-4b05-8d0c-4be715828252
DTSTAMP:20260424T001117Z
DESCRIPTION:Grilling season is almost over!\nThis Friday enjoy a burger or 
 brat for lunch Grilled by DHI!!! \nFrom 11am-1pm in the DHI parking lot   
     \n
DTSTART;TZID=America/Chicago:20210917T110000
DTEND;TZID=America/Chicago:20210917T130000
LOCATION:Development Homes\, Inc. 3880 South Columbia Road - DHI Parking Lo
 t
SUMMARY:Grill and Chill
END:VEVENT
END:VCALENDAR
