BEGIN:VCALENDAR
VERSION:2.0
PRODID:-//www.developmenthomes.org//NONSGML kigkonsult.se iCalcreator 2.30.
 10//
CALSCALE:GREGORIAN
METHOD:PUBLISH
UID:d1815e44-649a-4830-ace5-07e13ec57c2f
X-WR-CALDESC:
X-WR-RELCALID:4bb26377878ca6176470d801772dd114
X-WR-TIMEZONE:America/Chicago
BEGIN:VTIMEZONE
TZID:America/Chicago
BEGIN:STANDARD
TZNAME:CST
DTSTART:20201101T020000
TZOFFSETFROM:-0500
TZOFFSETTO:-0600
RDATE:20211107T020000
RDATE:20221106T020000
END:STANDARD
BEGIN:DAYLIGHT
TZNAME:CDT
DTSTART:20210314T020000
TZOFFSETFROM:-0600
TZOFFSETTO:-0500
RDATE:20220313T020000
RDATE:20230312T020000
END:DAYLIGHT
END:VTIMEZONE
BEGIN:VEVENT
UID:ccc19489-d7fe-4c00-b467-979c5d4a2147
DTSTAMP:20260423T223338Z
DESCRIPTION:
DTSTART;TZID=America/Chicago:20211008T000000
DTEND;TZID=America/Chicago:20211008T235900
LOCATION:
SUMMARY:Above and Beyond Winners Announced
END:VEVENT
END:VCALENDAR
