BEGIN:VCALENDAR
VERSION:2.0
PRODID:-//www.developmenthomes.org//NONSGML kigkonsult.se iCalcreator 2.30.
 10//
CALSCALE:GREGORIAN
METHOD:PUBLISH
UID:cec7708f-dd1c-453d-b676-7cbc597c6f38
X-WR-CALDESC:
X-WR-RELCALID:1ebce8f362129cb8a4d538026ad29e67
X-WR-TIMEZONE:America/Chicago
BEGIN:VTIMEZONE
TZID:America/Chicago
BEGIN:STANDARD
TZNAME:CST
DTSTART:20201101T020000
TZOFFSETFROM:-0500
TZOFFSETTO:-0600
RDATE:20211107T020000
RDATE:20221106T020000
END:STANDARD
BEGIN:DAYLIGHT
TZNAME:CDT
DTSTART:20210314T020000
TZOFFSETFROM:-0600
TZOFFSETTO:-0500
RDATE:20220313T020000
RDATE:20230312T020000
END:DAYLIGHT
END:VTIMEZONE
BEGIN:VEVENT
UID:e9a4950e-3c91-4e01-a415-33ea35ae446d
DTSTAMP:20260423T223613Z
DESCRIPTION:
DTSTART;TZID=America/Chicago:20211008T000000
DTEND;TZID=America/Chicago:20211008T235900
LOCATION:
SUMMARY:Lee Lipp Leadership Award Winner Announced
END:VEVENT
END:VCALENDAR
