BEGIN:VCALENDAR
VERSION:2.0
PRODID:-//www.developmenthomes.org//NONSGML kigkonsult.se iCalcreator 2.30.
 10//
CALSCALE:GREGORIAN
METHOD:PUBLISH
UID:09bddb03-8d4a-4878-a568-55870cbc27af
X-WR-CALDESC:Please join us for a Merry Little Christmas PARTY at the Blue 
 Moose Bar and Grill
X-WR-RELCALID:4b8ef4b5316f9b6bbc62f83cc4d352f5
X-WR-TIMEZONE:America/Chicago
BEGIN:VTIMEZONE
TZID:America/Chicago
BEGIN:STANDARD
TZNAME:CST
DTSTART:20211107T020000
TZOFFSETFROM:-0500
TZOFFSETTO:-0600
RDATE:20221106T020000
END:STANDARD
BEGIN:DAYLIGHT
TZNAME:CDT
DTSTART:20210314T020000
TZOFFSETFROM:-0600
TZOFFSETTO:-0500
RDATE:20220313T020000
RDATE:20230312T020000
END:DAYLIGHT
END:VTIMEZONE
BEGIN:VEVENT
UID:0068cba9-4e4c-4e98-8d89-982ce65e84de
DTSTAMP:20260423T194315Z
DESCRIPTION:Please join us for a Merry Little Christmas PARTY at the Blue M
 oose Bar and Grill
DTSTART;TZID=America/Chicago:20211216T173000
DTEND;TZID=America/Chicago:20211216T193000
LOCATION:
SUMMARY:DHI Board Christmas Party
END:VEVENT
END:VCALENDAR
