BEGIN:VCALENDAR
VERSION:2.0
PRODID:-//www.developmenthomes.org//NONSGML kigkonsult.se iCalcreator 2.30.
 10//
CALSCALE:GREGORIAN
METHOD:PUBLISH
UID:c0dc84f0-a962-45c6-8d9c-62f95aef5788
X-WR-CALDESC:Christmas Eve all DHI Mail Office Staff off at 3pm
X-WR-RELCALID:0302697fa055e2c16bbd1a4363c566c2
X-WR-TIMEZONE:America/Chicago
BEGIN:VTIMEZONE
TZID:America/Chicago
BEGIN:STANDARD
TZNAME:CST
DTSTART:20211107T020000
TZOFFSETFROM:-0500
TZOFFSETTO:-0600
RDATE:20221106T020000
END:STANDARD
BEGIN:DAYLIGHT
TZNAME:CDT
DTSTART:20210314T020000
TZOFFSETFROM:-0600
TZOFFSETTO:-0500
RDATE:20220313T020000
RDATE:20230312T020000
END:DAYLIGHT
END:VTIMEZONE
BEGIN:VEVENT
UID:48815263-bcc4-4993-b198-714d81e083a6
DTSTAMP:20260423T194733Z
DESCRIPTION:Christmas Eve all DHI Mail Office Staff off at 3pm
DTSTART;TZID=America/Chicago:20211223T000000
DTEND;TZID=America/Chicago:20211223T235900
LOCATION:
SUMMARY:Christmas Eve 3pm Main Office Closure
END:VEVENT
END:VCALENDAR
