BEGIN:VCALENDAR
VERSION:2.0
PRODID:-//www.developmenthomes.org//NONSGML kigkonsult.se iCalcreator 2.30.
 10//
CALSCALE:GREGORIAN
METHOD:PUBLISH
UID:269da399-aebd-4507-9504-673931c675a1
X-WR-CALDESC:
X-WR-RELCALID:e83de7e9f119e8b8bd481d3a253c22be
X-WR-TIMEZONE:America/Chicago
BEGIN:VTIMEZONE
TZID:America/Chicago
BEGIN:STANDARD
TZNAME:CST
DTSTART:20211107T020000
TZOFFSETFROM:-0500
TZOFFSETTO:-0600
RDATE:20221106T020000
END:STANDARD
BEGIN:DAYLIGHT
TZNAME:CDT
DTSTART:20210314T020000
TZOFFSETFROM:-0600
TZOFFSETTO:-0500
RDATE:20220313T020000
RDATE:20230312T020000
END:DAYLIGHT
END:VTIMEZONE
BEGIN:VEVENT
UID:8da1a6b3-a33d-4253-864d-80488fcabfae
DTSTAMP:20260423T194458Z
DESCRIPTION:
DTSTART;TZID=America/Chicago:20211230T000000
DTEND;TZID=America/Chicago:20211230T235900
LOCATION:
SUMMARY:New Year's Eve 3pm Main Office Closure
END:VEVENT
END:VCALENDAR
