BEGIN:VCALENDAR
VERSION:2.0
PRODID:-//www.developmenthomes.org//NONSGML kigkonsult.se iCalcreator 2.30.
 10//
CALSCALE:GREGORIAN
METHOD:PUBLISH
UID:c353b22b-255e-4e6c-b149-35b346b1740d
X-WR-CALDESC:
X-WR-RELCALID:3b7049cfed14933f566617a9d564fa6d
X-WR-TIMEZONE:America/Chicago
BEGIN:VTIMEZONE
TZID:America/Chicago
BEGIN:STANDARD
TZNAME:CST
DTSTART:20211107T020000
TZOFFSETFROM:-0500
TZOFFSETTO:-0600
RDATE:20221106T020000
END:STANDARD
BEGIN:DAYLIGHT
TZNAME:CDT
DTSTART:20210314T020000
TZOFFSETFROM:-0600
TZOFFSETTO:-0500
RDATE:20220313T020000
RDATE:20230312T020000
END:DAYLIGHT
END:VTIMEZONE
BEGIN:VEVENT
UID:6c87ba19-67c2-4dc8-b6c5-55e6fc3650e0
DTSTAMP:20260423T194727Z
DESCRIPTION:
DTSTART;TZID=America/Chicago:20211230T000000
DTEND;TZID=America/Chicago:20211230T235900
LOCATION:
SUMMARY:PAYDAY
END:VEVENT
END:VCALENDAR
