BEGIN:VCALENDAR
VERSION:2.0
PRODID:-//www.developmenthomes.org//NONSGML kigkonsult.se iCalcreator 2.30.
 10//
CALSCALE:GREGORIAN
METHOD:PUBLISH
UID:20b07fd1-d3ab-45d7-af0a-f77d7faf5808
X-WR-CALDESC:Join Zoom Meeting\nhttps://us02web.zoom.us/j/81692661735?pwd=O
 FFWWGk5VUpHSEl5MzVNd1crT0gvUT09\n\n\nMeeting ID: 816 9266 1735\nPasscode: 
 167701\nOne tap mobile\n+13462487799\,\,81692661735# US (Houston)\n+140863
 80968\,\,81692661735# US (San Jose)\n\nDial by your location\n        +1 3
 46 248 7799 US (Houston)\n        +1 408 638 0968 US (San Jose)\n        +
 1 669 900 6833 US (San Jose)\n        +1 253 215 8782 US (Tacoma)\n       
  +1 301 715 8592 US (Washington DC)\n        +1 312 626 6799 US (Chicago)
 \n        +1 646 876 9923 US (New York)\n        833 548 0282 US Toll-free
 \n        877 853 5247 US Toll-free\n        888 788 0099 US Toll-free\n  
       833 548 0276 US Toll-free\nMeeting ID: 816 9266 1735\nFind your loca
 l number: https://us02web.zoom.us/u/kcAE5bs7wT\n
X-WR-RELCALID:0e36a496b7a38d8d9aece85b0d42fb5f
X-WR-TIMEZONE:America/Chicago
BEGIN:VTIMEZONE
TZID:America/Chicago
BEGIN:STANDARD
TZNAME:CST
DTSTART:20211107T020000
TZOFFSETFROM:-0500
TZOFFSETTO:-0600
RDATE:20221106T020000
END:STANDARD
BEGIN:DAYLIGHT
TZNAME:CDT
DTSTART:20210314T020000
TZOFFSETFROM:-0600
TZOFFSETTO:-0500
RDATE:20220313T020000
RDATE:20230312T020000
END:DAYLIGHT
END:VTIMEZONE
BEGIN:VEVENT
UID:d57e485d-3755-49ed-9c1b-4983fb1ad223
DTSTAMP:20260423T165825Z
DESCRIPTION:Join Zoom Meeting\nhttps://us02web.zoom.us/j/81692661735?pwd=OF
 FWWGk5VUpHSEl5MzVNd1crT0gvUT09\n\n\nMeeting ID: 816 9266 1735\nPasscode: 1
 67701\nOne tap mobile\n+13462487799\,\,81692661735# US (Houston)\n+1408638
 0968\,\,81692661735# US (San Jose)\n\nDial by your location\n        +1 34
 6 248 7799 US (Houston)\n        +1 408 638 0968 US (San Jose)\n        +1
  669 900 6833 US (San Jose)\n        +1 253 215 8782 US (Tacoma)\n        
 +1 301 715 8592 US (Washington DC)\n        +1 312 626 6799 US (Chicago)\n
         +1 646 876 9923 US (New York)\n        833 548 0282 US Toll-free\n
         877 853 5247 US Toll-free\n        888 788 0099 US Toll-free\n    
     833 548 0276 US Toll-free\nMeeting ID: 816 9266 1735\nFind your local 
 number: https://us02web.zoom.us/u/kcAE5bs7wT\n
DTSTART;TZID=America/Chicago:20220208T190000
DTEND;TZID=America/Chicago:20220208T210000
LOCATION:
SUMMARY:Full Board
END:VEVENT
END:VCALENDAR
