BEGIN:VCALENDAR
VERSION:2.0
PRODID:-//www.developmenthomes.org//NONSGML kigkonsult.se iCalcreator 2.30.
 10//
CALSCALE:GREGORIAN
METHOD:PUBLISH
UID:e21f22d4-2e47-4f43-bea1-6afc26ff374e
X-WR-CALDESC:Join Zoom Meeting\nhttps://us02web.zoom.us/j/87594396434?pwd=Y
 XJPSUR4TVo2OTZTYzBNQ2RMYXBOZz09\n\n\nMeeting ID: 875 9439 6434\nPasscode: 
 522473\nOne tap mobile\n+14086380968\,\,87594396434# US (San Jose)\n+16699
 006833\,\,87594396434# US (San Jose)\n\nDial by your location\n        +1 
 408 638 0968 US (San Jose)\n        +1 669 900 6833 US (San Jose)\n       
  +1 253 215 8782 US (Tacoma)\n        +1 346 248 7799 US (Houston)\n      
   +1 312 626 6799 US (Chicago)\n        +1 646 876 9923 US (New York)\n   
      +1 301 715 8592 US (Washington DC)\n        877 853 5247 US Toll-free
 \n        888 788 0099 US Toll-free\n        833 548 0276 US Toll-free\n  
       833 548 0282 US Toll-free\nMeeting ID: 875 9439 6434\nFind your loca
 l number: https://us02web.zoom.us/u/keDR2Ul36j\n
X-WR-RELCALID:06768bd07e7f9f19821b5415a73423c1
X-WR-TIMEZONE:America/Chicago
BEGIN:VTIMEZONE
TZID:America/Chicago
BEGIN:STANDARD
TZNAME:CST
DTSTART:20211107T020000
TZOFFSETFROM:-0500
TZOFFSETTO:-0600
RDATE:20221106T020000
END:STANDARD
BEGIN:DAYLIGHT
TZNAME:CDT
DTSTART:20210314T020000
TZOFFSETFROM:-0600
TZOFFSETTO:-0500
RDATE:20220313T020000
RDATE:20230312T020000
END:DAYLIGHT
END:VTIMEZONE
BEGIN:VEVENT
UID:8ec1cc58-bedc-49aa-8a04-e1983f91ed7a
DTSTAMP:20260423T165637Z
DESCRIPTION:Join Zoom Meeting\nhttps://us02web.zoom.us/j/87594396434?pwd=YX
 JPSUR4TVo2OTZTYzBNQ2RMYXBOZz09\n\n\nMeeting ID: 875 9439 6434\nPasscode: 5
 22473\nOne tap mobile\n+14086380968\,\,87594396434# US (San Jose)\n+166990
 06833\,\,87594396434# US (San Jose)\n\nDial by your location\n        +1 4
 08 638 0968 US (San Jose)\n        +1 669 900 6833 US (San Jose)\n        
 +1 253 215 8782 US (Tacoma)\n        +1 346 248 7799 US (Houston)\n       
  +1 312 626 6799 US (Chicago)\n        +1 646 876 9923 US (New York)\n    
     +1 301 715 8592 US (Washington DC)\n        877 853 5247 US Toll-free
 \n        888 788 0099 US Toll-free\n        833 548 0276 US Toll-free\n  
       833 548 0282 US Toll-free\nMeeting ID: 875 9439 6434\nFind your loca
 l number: https://us02web.zoom.us/u/keDR2Ul36j\n
DTSTART;TZID=America/Chicago:20220208T174500
DTEND;TZID=America/Chicago:20220208T190000
LOCATION:
SUMMARY:Gaming Committee
END:VEVENT
END:VCALENDAR
