BEGIN:VCALENDAR
VERSION:2.0
PRODID:-//www.developmenthomes.org//NONSGML kigkonsult.se iCalcreator 2.30.
 10//
CALSCALE:GREGORIAN
METHOD:PUBLISH
UID:10afb97c-087e-42e4-8693-225229369eb6
X-WR-CALDESC:
X-WR-RELCALID:6e048155311dcb6478bcbbd69fb3b429
X-WR-TIMEZONE:America/Chicago
BEGIN:VTIMEZONE
TZID:America/Chicago
BEGIN:STANDARD
TZNAME:CST
DTSTART:20211107T020000
TZOFFSETFROM:-0500
TZOFFSETTO:-0600
RDATE:20221106T020000
END:STANDARD
BEGIN:DAYLIGHT
TZNAME:CDT
DTSTART:20220313T020000
TZOFFSETFROM:-0600
TZOFFSETTO:-0500
RDATE:20230312T020000
END:DAYLIGHT
END:VTIMEZONE
BEGIN:VEVENT
UID:3497bf6b-03da-4b8a-9c17-85cc65acdd2d
DTSTAMP:20260423T144246Z
DESCRIPTION:
DTSTART;TZID=America/Chicago:20220401T120000
DTEND;TZID=America/Chicago:20220401T130000
LOCATION:Founders Room
SUMMARY:Envision Committee
END:VEVENT
END:VCALENDAR
