BEGIN:VCALENDAR
VERSION:2.0
PRODID:-//www.developmenthomes.org//NONSGML kigkonsult.se iCalcreator 2.30.
 10//
CALSCALE:GREGORIAN
METHOD:PUBLISH
UID:e45ba012-1ca5-42da-abc4-b80a59c0e5ac
X-WR-CALDESC:
X-WR-RELCALID:cc7f2ed2b04aa2f474ef1fac67f67d63
X-WR-TIMEZONE:America/Chicago
BEGIN:VTIMEZONE
TZID:America/Chicago
BEGIN:STANDARD
TZNAME:CST
DTSTART:20211107T020000
TZOFFSETFROM:-0500
TZOFFSETTO:-0600
RDATE:20221106T020000
END:STANDARD
BEGIN:DAYLIGHT
TZNAME:CDT
DTSTART:20220313T020000
TZOFFSETFROM:-0600
TZOFFSETTO:-0500
RDATE:20230312T020000
END:DAYLIGHT
END:VTIMEZONE
BEGIN:VEVENT
UID:84a2c416-d4db-4b99-b982-7338c9a92212
DTSTAMP:20260423T142137Z
DESCRIPTION:
DTSTART;TZID=America/Chicago:20220411T120000
DTEND;TZID=America/Chicago:20220411T133000
LOCATION:Education Center
SUMMARY:HR Committee
END:VEVENT
END:VCALENDAR
