BEGIN:VCALENDAR
VERSION:2.0
PRODID:-//www.developmenthomes.org//NONSGML kigkonsult.se iCalcreator 2.30.
 10//
CALSCALE:GREGORIAN
METHOD:PUBLISH
UID:552646bc-b269-449c-b441-43e5d418290b
X-WR-CALDESC:
X-WR-RELCALID:07a37a0f8acce0571ff3ce94dc118b8c
X-WR-TIMEZONE:America/Chicago
BEGIN:VTIMEZONE
TZID:America/Chicago
BEGIN:STANDARD
TZNAME:CST
DTSTART:20211107T020000
TZOFFSETFROM:-0500
TZOFFSETTO:-0600
RDATE:20221106T020000
END:STANDARD
BEGIN:DAYLIGHT
TZNAME:CDT
DTSTART:20220313T020000
TZOFFSETFROM:-0600
TZOFFSETTO:-0500
RDATE:20230312T020000
END:DAYLIGHT
END:VTIMEZONE
BEGIN:VEVENT
UID:38b80025-e9b4-4835-8c8c-614bc5bf5d80
DTSTAMP:20260423T143140Z
DESCRIPTION:
DTSTART;TZID=America/Chicago:20220413T000000
DTEND;TZID=America/Chicago:20220413T235900
LOCATION:
SUMMARY:Main Office Closed Due to Weather
END:VEVENT
END:VCALENDAR
