BEGIN:VCALENDAR
VERSION:2.0
PRODID:-//www.developmenthomes.org//NONSGML kigkonsult.se iCalcreator 2.30.
 10//
CALSCALE:GREGORIAN
METHOD:PUBLISH
UID:0c438cf5-7ff4-49c3-b334-bd200cf5ae09
X-WR-CALDESC:
X-WR-RELCALID:71cec3aaae37794596ff1d9f3ce12ff8
X-WR-TIMEZONE:America/Chicago
BEGIN:VTIMEZONE
TZID:America/Chicago
BEGIN:STANDARD
TZNAME:CST
DTSTART:20211107T020000
TZOFFSETFROM:-0500
TZOFFSETTO:-0600
RDATE:20221106T020000
END:STANDARD
BEGIN:DAYLIGHT
TZNAME:CDT
DTSTART:20220313T020000
TZOFFSETFROM:-0600
TZOFFSETTO:-0500
RDATE:20230312T020000
END:DAYLIGHT
END:VTIMEZONE
BEGIN:VEVENT
UID:65263f1e-dc10-40be-b917-b930b2e029e3
DTSTAMP:20260423T141449Z
DESCRIPTION:
DTSTART;TZID=America/Chicago:20220415T000000
DTEND;TZID=America/Chicago:20220415T235900
LOCATION:
SUMMARY:HOLIDAY - Main Office Closed
END:VEVENT
END:VCALENDAR
