BEGIN:VCALENDAR
VERSION:2.0
PRODID:-//www.developmenthomes.org//NONSGML kigkonsult.se iCalcreator 2.30.
 10//
CALSCALE:GREGORIAN
METHOD:PUBLISH
UID:ba9270e5-36f3-4fc5-8c9c-d0ee88ce45d7
X-WR-CALDESC:
X-WR-RELCALID:aadffc0ac43b28cb4aace299cf758f41
X-WR-TIMEZONE:America/Chicago
BEGIN:VTIMEZONE
TZID:America/Chicago
BEGIN:STANDARD
TZNAME:CST
DTSTART:20211107T020000
TZOFFSETFROM:-0500
TZOFFSETTO:-0600
RDATE:20221106T020000
END:STANDARD
BEGIN:DAYLIGHT
TZNAME:CDT
DTSTART:20220313T020000
TZOFFSETFROM:-0600
TZOFFSETTO:-0500
RDATE:20230312T020000
END:DAYLIGHT
END:VTIMEZONE
BEGIN:VEVENT
UID:544ae252-ef49-4af8-891b-f909ef638960
DTSTAMP:20260423T141805Z
DESCRIPTION:
DTSTART;TZID=America/Chicago:20220418T120000
DTEND;TZID=America/Chicago:20220418T133000
LOCATION:Education Center
SUMMARY:Program Committee
END:VEVENT
END:VCALENDAR
