BEGIN:VCALENDAR
VERSION:2.0
PRODID:-//www.developmenthomes.org//NONSGML kigkonsult.se iCalcreator 2.30.
 10//
CALSCALE:GREGORIAN
METHOD:PUBLISH
UID:60d465c7-9b81-4cc2-a203-c68bc5a93098
X-WR-CALDESC:
X-WR-RELCALID:9ebb533d92d159af447a05d09835eecd
X-WR-TIMEZONE:America/Chicago
BEGIN:VTIMEZONE
TZID:America/Chicago
BEGIN:STANDARD
TZNAME:CST
DTSTART:20211107T020000
TZOFFSETFROM:-0500
TZOFFSETTO:-0600
RDATE:20221106T020000
END:STANDARD
BEGIN:DAYLIGHT
TZNAME:CDT
DTSTART:20220313T020000
TZOFFSETFROM:-0600
TZOFFSETTO:-0500
RDATE:20230312T020000
END:DAYLIGHT
END:VTIMEZONE
BEGIN:VEVENT
UID:f06a2ce8-ad50-468c-9043-3decc43de045
DTSTAMP:20260423T143954Z
DESCRIPTION:
DTSTART;TZID=America/Chicago:20220425T120000
DTEND;TZID=America/Chicago:20220425T133000
LOCATION:3880 S COLUMBIA RD\, GRAND FORKS\, ND 58201 US
SUMMARY:Executive Committee
END:VEVENT
END:VCALENDAR
