BEGIN:VCALENDAR
VERSION:2.0
PRODID:-//www.developmenthomes.org//NONSGML kigkonsult.se iCalcreator 2.30.
 10//
CALSCALE:GREGORIAN
METHOD:PUBLISH
UID:a5513aa4-97ee-47a1-a40d-9680e8d37b84
X-WR-CALDESC:
X-WR-RELCALID:f6a2c73830e09dd75555882f93b40bdf
X-WR-TIMEZONE:America/Chicago
BEGIN:VTIMEZONE
TZID:America/Chicago
BEGIN:STANDARD
TZNAME:CST
DTSTART:20211107T020000
TZOFFSETFROM:-0500
TZOFFSETTO:-0600
RDATE:20221106T020000
END:STANDARD
BEGIN:DAYLIGHT
TZNAME:CDT
DTSTART:20220313T020000
TZOFFSETFROM:-0600
TZOFFSETTO:-0500
RDATE:20230312T020000
END:DAYLIGHT
END:VTIMEZONE
BEGIN:VEVENT
UID:3a7018d1-5e8a-4ddd-8c9f-76fad69da880
DTSTAMP:20260423T143946Z
DESCRIPTION:
DTSTART;TZID=America/Chicago:20220425T113000
DTEND;TZID=America/Chicago:20220425T123000
LOCATION:Founders Room
SUMMARY:Investment Committee
END:VEVENT
END:VCALENDAR
