BEGIN:VCALENDAR
VERSION:2.0
PRODID:-//www.developmenthomes.org//NONSGML kigkonsult.se iCalcreator 2.30.
 10//
CALSCALE:GREGORIAN
METHOD:PUBLISH
UID:f7ee4541-1182-4268-beb6-3755a363f3b9
X-WR-CALDESC:
X-WR-RELCALID:cec500ac4072ce77152602da190e74d4
X-WR-TIMEZONE:America/Chicago
BEGIN:VTIMEZONE
TZID:America/Chicago
BEGIN:STANDARD
TZNAME:CST
DTSTART:20211107T020000
TZOFFSETFROM:-0500
TZOFFSETTO:-0600
RDATE:20221106T020000
END:STANDARD
BEGIN:DAYLIGHT
TZNAME:CDT
DTSTART:20220313T020000
TZOFFSETFROM:-0600
TZOFFSETTO:-0500
RDATE:20230312T020000
END:DAYLIGHT
END:VTIMEZONE
BEGIN:VEVENT
UID:37771583-157e-4832-8070-b10775b0bf5e
DTSTAMP:20260423T145300Z
DESCRIPTION:
DTSTART;TZID=America/Chicago:20220426T190000
DTEND;TZID=America/Chicago:20220426T210000
LOCATION:3880 S COLUMBIA RD\, GRAND FORKS\, ND 58201 US
SUMMARY:Full Board Meeting
END:VEVENT
END:VCALENDAR
