BEGIN:VCALENDAR
VERSION:2.0
PRODID:-//www.developmenthomes.org//NONSGML kigkonsult.se iCalcreator 2.30.
 10//
CALSCALE:GREGORIAN
METHOD:PUBLISH
UID:a8fd8d57-051f-482e-a92e-ebf763fb2152
X-WR-CALDESC:
X-WR-RELCALID:03414d4973fa5756d6ce60ee13ff3785
X-WR-TIMEZONE:America/Chicago
BEGIN:VTIMEZONE
TZID:America/Chicago
BEGIN:STANDARD
TZNAME:CST
DTSTART:20211107T020000
TZOFFSETFROM:-0500
TZOFFSETTO:-0600
RDATE:20221106T020000
END:STANDARD
BEGIN:DAYLIGHT
TZNAME:CDT
DTSTART:20220313T020000
TZOFFSETFROM:-0600
TZOFFSETTO:-0500
RDATE:20230312T020000
END:DAYLIGHT
END:VTIMEZONE
BEGIN:VEVENT
UID:ba0f460c-8f86-4b4b-aa5f-3ad405587f9c
DTSTAMP:20260423T141444Z
DESCRIPTION:
DTSTART;TZID=America/Chicago:20220426T171500
DTEND;TZID=America/Chicago:20220426T183000
LOCATION:3880 S COLUMBIA RD\, GRAND FORKS\, ND 58201 US
SUMMARY:Gaming Committee
END:VEVENT
END:VCALENDAR
