BEGIN:VCALENDAR
VERSION:2.0
PRODID:-//www.developmenthomes.org//NONSGML kigkonsult.se iCalcreator 2.30.
 10//
CALSCALE:GREGORIAN
METHOD:PUBLISH
UID:5c83f443-2ece-4114-9dcc-26e4d6ecc715
X-WR-CALDESC:Shotgun @ NOON
X-WR-RELCALID:8b97212865e8d1385295ac86123fbd00
X-WR-TIMEZONE:America/Chicago
BEGIN:VTIMEZONE
TZID:America/Chicago
BEGIN:STANDARD
TZNAME:CST
DTSTART:20211107T020000
TZOFFSETFROM:-0500
TZOFFSETTO:-0600
RDATE:20221106T020000
RDATE:20231105T020000
END:STANDARD
BEGIN:DAYLIGHT
TZNAME:CDT
DTSTART:20220313T020000
TZOFFSETFROM:-0600
TZOFFSETTO:-0500
RDATE:20230312T020000
END:DAYLIGHT
END:VTIMEZONE
BEGIN:VEVENT
UID:839eaf30-a400-494f-9525-07f349463358
DTSTAMP:20260423T102147Z
DESCRIPTION:Shotgun @ NOON
DTSTART;TZID=America/Chicago:20220714T000000
DTEND;TZID=America/Chicago:20220714T235900
LOCATION:Grand Forks Country Club
SUMMARY:DHI 13th Annual Golf Tournament
END:VEVENT
END:VCALENDAR
