BEGIN:VCALENDAR
VERSION:2.0
PRODID:-//www.developmenthomes.org//NONSGML kigkonsult.se iCalcreator 2.30.
 10//
CALSCALE:GREGORIAN
METHOD:PUBLISH
UID:5ee2dcd2-d5fd-4ccb-b405-8990c2a5ced2
X-WR-CALDESC:
X-WR-RELCALID:edd85f19c809d1ace46ea95ca9e8dace
X-WR-TIMEZONE:America/Chicago
BEGIN:VTIMEZONE
TZID:America/Chicago
BEGIN:STANDARD
TZNAME:CST
DTSTART:20211107T020000
TZOFFSETFROM:-0500
TZOFFSETTO:-0600
RDATE:20221106T020000
RDATE:20231105T020000
END:STANDARD
BEGIN:DAYLIGHT
TZNAME:CDT
DTSTART:20220313T020000
TZOFFSETFROM:-0600
TZOFFSETTO:-0500
RDATE:20230312T020000
END:DAYLIGHT
END:VTIMEZONE
BEGIN:VEVENT
UID:97fdc391-f44c-40f7-a4ba-f4c638e6953a
DTSTAMP:20260423T083818Z
DESCRIPTION:
DTSTART;TZID=America/Chicago:20220805T120000
DTEND;TZID=America/Chicago:20220805T133000
LOCATION:Development Homes\, Inc. 3880 South Columbia Road  - Founders Room
SUMMARY:Envision Committee
END:VEVENT
END:VCALENDAR
