BEGIN:VCALENDAR
VERSION:2.0
PRODID:-//www.developmenthomes.org//NONSGML kigkonsult.se iCalcreator 2.30.
 10//
CALSCALE:GREGORIAN
METHOD:PUBLISH
UID:0641253f-4c29-4f4a-8052-12f46d9bcbe9
X-WR-CALDESC:
X-WR-RELCALID:6223c45b35100869294545b28b3b8a9f
X-WR-TIMEZONE:America/Chicago
BEGIN:VTIMEZONE
TZID:America/Chicago
BEGIN:STANDARD
TZNAME:CST
DTSTART:20211107T020000
TZOFFSETFROM:-0500
TZOFFSETTO:-0600
RDATE:20221106T020000
RDATE:20231105T020000
END:STANDARD
BEGIN:DAYLIGHT
TZNAME:CDT
DTSTART:20220313T020000
TZOFFSETFROM:-0600
TZOFFSETTO:-0500
RDATE:20230312T020000
END:DAYLIGHT
END:VTIMEZONE
BEGIN:VEVENT
UID:a7c8eeab-368c-42e7-bab1-0a8b3e14e0f3
DTSTAMP:20260423T083934Z
DESCRIPTION:
DTSTART;TZID=America/Chicago:20220815T120000
DTEND;TZID=America/Chicago:20220815T133000
LOCATION:Development Homes\, Inc. 3880 South Columbia Road  - Education Cen
 ter
SUMMARY:Program Committee
END:VEVENT
END:VCALENDAR
