BEGIN:VCALENDAR
VERSION:2.0
PRODID:-//www.developmenthomes.org//NONSGML kigkonsult.se iCalcreator 2.30.
 10//
CALSCALE:GREGORIAN
METHOD:PUBLISH
UID:0cda46b8-e561-4b59-8784-1ab0e57bfe13
X-WR-CALDESC:
X-WR-RELCALID:46903adbf190a3079ee488ee94a47abb
X-WR-TIMEZONE:America/Chicago
BEGIN:VTIMEZONE
TZID:America/Chicago
BEGIN:STANDARD
TZNAME:CST
DTSTART:20211107T020000
TZOFFSETFROM:-0500
TZOFFSETTO:-0600
RDATE:20221106T020000
RDATE:20231105T020000
END:STANDARD
BEGIN:DAYLIGHT
TZNAME:CDT
DTSTART:20220313T020000
TZOFFSETFROM:-0600
TZOFFSETTO:-0500
RDATE:20230312T020000
END:DAYLIGHT
END:VTIMEZONE
BEGIN:VEVENT
UID:fff5073e-4ddc-4d31-8246-1192d0b14286
DTSTAMP:20260423T084603Z
DESCRIPTION:
DTSTART;TZID=America/Chicago:20220822T120000
DTEND;TZID=America/Chicago:20220822T133000
LOCATION:Development Homes\, Inc. 3880 South Columbia Road  - Education Cen
 ter
SUMMARY:Executive
END:VEVENT
END:VCALENDAR
