BEGIN:VCALENDAR
VERSION:2.0
PRODID:-//www.developmenthomes.org//NONSGML kigkonsult.se iCalcreator 2.30.
 10//
CALSCALE:GREGORIAN
METHOD:PUBLISH
UID:8d6c4f40-61cb-4b16-9b9c-c16eaa6ea3e1
X-WR-CALDESC:
X-WR-RELCALID:3fef5934e38ddfd3ff84c3ec38bdc845
X-WR-TIMEZONE:America/Chicago
BEGIN:VTIMEZONE
TZID:America/Chicago
BEGIN:STANDARD
TZNAME:CST
DTSTART:20211107T020000
TZOFFSETFROM:-0500
TZOFFSETTO:-0600
RDATE:20221106T020000
RDATE:20231105T020000
END:STANDARD
BEGIN:DAYLIGHT
TZNAME:CDT
DTSTART:20220313T020000
TZOFFSETFROM:-0600
TZOFFSETTO:-0500
RDATE:20230312T020000
END:DAYLIGHT
END:VTIMEZONE
BEGIN:VEVENT
UID:2e4f5d7e-0b15-4199-9566-3d32ab7a338f
DTSTAMP:20260423T084603Z
DESCRIPTION:
DTSTART;TZID=America/Chicago:20220822T113000
DTEND;TZID=America/Chicago:20220822T130000
LOCATION:Development Homes\, Inc. 3880 South Columbia Road  - Founders Room
SUMMARY:Investment Committee
END:VEVENT
END:VCALENDAR
