BEGIN:VCALENDAR
VERSION:2.0
PRODID:-//www.developmenthomes.org//NONSGML kigkonsult.se iCalcreator 2.30.
 10//
CALSCALE:GREGORIAN
METHOD:PUBLISH
UID:19653c96-63d3-44c4-9928-b31793881751
X-WR-CALDESC:
X-WR-RELCALID:72a3df063859221542bba350951a0622
X-WR-TIMEZONE:America/Chicago
BEGIN:VTIMEZONE
TZID:America/Chicago
BEGIN:STANDARD
TZNAME:CST
DTSTART:20211107T020000
TZOFFSETFROM:-0500
TZOFFSETTO:-0600
RDATE:20221106T020000
RDATE:20231105T020000
END:STANDARD
BEGIN:DAYLIGHT
TZNAME:CDT
DTSTART:20220313T020000
TZOFFSETFROM:-0600
TZOFFSETTO:-0500
RDATE:20230312T020000
END:DAYLIGHT
END:VTIMEZONE
BEGIN:VEVENT
UID:7b1f519b-196b-438e-bc7a-d8524c9b07f2
DTSTAMP:20260423T084435Z
DESCRIPTION:
DTSTART;TZID=America/Chicago:20220823T190000
DTEND;TZID=America/Chicago:20220823T210000
LOCATION:DHI Education Center
SUMMARY:Full Board Meeting
END:VEVENT
END:VCALENDAR
