BEGIN:VCALENDAR
VERSION:2.0
PRODID:-//www.developmenthomes.org//NONSGML kigkonsult.se iCalcreator 2.30.
 10//
CALSCALE:GREGORIAN
METHOD:PUBLISH
UID:012b6d2b-4c12-4b4c-b419-602e303de52a
X-WR-CALDESC:
X-WR-RELCALID:0af7efd20fd16830be6861842148b3d1
X-WR-TIMEZONE:America/Chicago
BEGIN:VTIMEZONE
TZID:America/Chicago
BEGIN:STANDARD
TZNAME:CST
DTSTART:20211107T020000
TZOFFSETFROM:-0500
TZOFFSETTO:-0600
RDATE:20221106T020000
RDATE:20231105T020000
END:STANDARD
BEGIN:DAYLIGHT
TZNAME:CDT
DTSTART:20220313T020000
TZOFFSETFROM:-0600
TZOFFSETTO:-0500
RDATE:20230312T020000
END:DAYLIGHT
END:VTIMEZONE
BEGIN:VEVENT
UID:b8ab2fa7-cfdc-4276-a35a-25f99db1a44e
DTSTAMP:20260423T092119Z
DESCRIPTION:
DTSTART;TZID=America/Chicago:20220823T174500
DTEND;TZID=America/Chicago:20220823T184500
LOCATION:Development Homes\, Inc. 3880 South Columbia Road  - Founders Room
SUMMARY:Gaming Committee
END:VEVENT
END:VCALENDAR
