BEGIN:VCALENDAR
VERSION:2.0
PRODID:-//www.developmenthomes.org//NONSGML kigkonsult.se iCalcreator 2.30.
 10//
CALSCALE:GREGORIAN
METHOD:PUBLISH
UID:154c78c5-4c9b-44f7-883a-871e3c6e8599
X-WR-CALDESC:
X-WR-RELCALID:cd9524765cd012969adfd02061c4a4f0
X-WR-TIMEZONE:America/Chicago
BEGIN:VTIMEZONE
TZID:America/Chicago
BEGIN:STANDARD
TZNAME:CST
DTSTART:20211107T020000
TZOFFSETFROM:-0500
TZOFFSETTO:-0600
RDATE:20221106T020000
RDATE:20231105T020000
END:STANDARD
BEGIN:DAYLIGHT
TZNAME:CDT
DTSTART:20220313T020000
TZOFFSETFROM:-0600
TZOFFSETTO:-0500
RDATE:20230312T020000
RDATE:20240310T020000
END:DAYLIGHT
END:VTIMEZONE
BEGIN:VEVENT
UID:61cda640-490c-4d79-86e0-5eb0e5f4cb5a
DTSTAMP:20260423T071158Z
DESCRIPTION:
DTSTART;TZID=America/Chicago:20220911T000000
DTEND;TZID=America/Chicago:20220917T235900
LOCATION:
SUMMARY:DSP WEEK
END:VEVENT
END:VCALENDAR
