BEGIN:VCALENDAR
VERSION:2.0
PRODID:-//www.developmenthomes.org//NONSGML kigkonsult.se iCalcreator 2.30.
 10//
CALSCALE:GREGORIAN
METHOD:PUBLISH
UID:e66f0a21-bf4a-47f8-af15-cfd1175d1e27
X-WR-CALDESC:
X-WR-RELCALID:862112a422f6454361d05bd7d230914c
X-WR-TIMEZONE:America/Chicago
BEGIN:VTIMEZONE
TZID:America/Chicago
BEGIN:STANDARD
TZNAME:CST
DTSTART:20211107T020000
TZOFFSETFROM:-0500
TZOFFSETTO:-0600
RDATE:20221106T020000
RDATE:20231105T020000
END:STANDARD
BEGIN:DAYLIGHT
TZNAME:CDT
DTSTART:20220313T020000
TZOFFSETFROM:-0600
TZOFFSETTO:-0500
RDATE:20230312T020000
RDATE:20240310T020000
END:DAYLIGHT
END:VTIMEZONE
BEGIN:VEVENT
UID:c84d942e-4e16-4bd0-9b17-5a788af0bd67
DTSTAMP:20260423T054438Z
DESCRIPTION:
DTSTART;TZID=America/Chicago:20221014T120000
DTEND;TZID=America/Chicago:20221014T133000
LOCATION:Development Homes\, Inc. 3880 South Columbia Road  - Founders Room
SUMMARY:Envision Committee
END:VEVENT
END:VCALENDAR
