BEGIN:VCALENDAR
VERSION:2.0
PRODID:-//www.developmenthomes.org//NONSGML kigkonsult.se iCalcreator 2.30.
 10//
CALSCALE:GREGORIAN
METHOD:PUBLISH
UID:a8edb928-4f42-4cdc-ae30-95594e6c8494
X-WR-CALDESC:
X-WR-RELCALID:8fed169b1f21bc48adcd4020c4f25bd1
X-WR-TIMEZONE:America/Chicago
BEGIN:VTIMEZONE
TZID:America/Chicago
BEGIN:STANDARD
TZNAME:CST
DTSTART:20211107T020000
TZOFFSETFROM:-0500
TZOFFSETTO:-0600
RDATE:20221106T020000
RDATE:20231105T020000
END:STANDARD
BEGIN:DAYLIGHT
TZNAME:CDT
DTSTART:20220313T020000
TZOFFSETFROM:-0600
TZOFFSETTO:-0500
RDATE:20230312T020000
RDATE:20240310T020000
END:DAYLIGHT
END:VTIMEZONE
BEGIN:VEVENT
UID:f38126a9-83ca-4602-a21b-6e5048f6726d
DTSTAMP:20260423T054042Z
DESCRIPTION:
DTSTART;TZID=America/Chicago:20221017T120000
DTEND;TZID=America/Chicago:20221017T133000
LOCATION:Development Homes\, Inc. 3880 South Columbia Road  - Founders Room
SUMMARY:Program Committee
END:VEVENT
END:VCALENDAR
