BEGIN:VCALENDAR
VERSION:2.0
PRODID:-//www.developmenthomes.org//NONSGML kigkonsult.se iCalcreator 2.30.
 10//
CALSCALE:GREGORIAN
METHOD:PUBLISH
UID:a3334510-5c70-4ffe-b393-61f288702ca2
X-WR-CALDESC:
X-WR-RELCALID:89d3cb69b578ca2db8b27315b3a956a5
X-WR-TIMEZONE:America/Chicago
BEGIN:VTIMEZONE
TZID:America/Chicago
BEGIN:STANDARD
TZNAME:CST
DTSTART:20211107T020000
TZOFFSETFROM:-0500
TZOFFSETTO:-0600
RDATE:20221106T020000
RDATE:20231105T020000
END:STANDARD
BEGIN:DAYLIGHT
TZNAME:CDT
DTSTART:20220313T020000
TZOFFSETFROM:-0600
TZOFFSETTO:-0500
RDATE:20230312T020000
RDATE:20240310T020000
END:DAYLIGHT
END:VTIMEZONE
BEGIN:VEVENT
UID:abc83ae6-5b2b-4c11-8c43-a02221cca821
DTSTAMP:20260423T054332Z
DESCRIPTION:
DTSTART;TZID=America/Chicago:20221024T120000
DTEND;TZID=America/Chicago:20221024T133000
LOCATION:Development Homes\, Inc. 3880 South Columbia Road  - Founders Room
SUMMARY:Executive Meeting
END:VEVENT
END:VCALENDAR
