BEGIN:VCALENDAR
VERSION:2.0
PRODID:-//www.developmenthomes.org//NONSGML kigkonsult.se iCalcreator 2.30.
 10//
CALSCALE:GREGORIAN
METHOD:PUBLISH
UID:993240aa-11d0-4743-a6d0-28fef0ef786c
X-WR-CALDESC:
X-WR-RELCALID:bd75f59518f0497656c3a5c33e8c45dc
X-WR-TIMEZONE:America/Chicago
BEGIN:VTIMEZONE
TZID:America/Chicago
BEGIN:STANDARD
TZNAME:CST
DTSTART:20211107T020000
TZOFFSETFROM:-0500
TZOFFSETTO:-0600
RDATE:20221106T020000
RDATE:20231105T020000
END:STANDARD
BEGIN:DAYLIGHT
TZNAME:CDT
DTSTART:20220313T020000
TZOFFSETFROM:-0600
TZOFFSETTO:-0500
RDATE:20230312T020000
RDATE:20240310T020000
END:DAYLIGHT
END:VTIMEZONE
BEGIN:VEVENT
UID:db75cd5a-ba24-4fb6-b5db-85bfc164e31b
DTSTAMP:20260423T054444Z
DESCRIPTION:
DTSTART;TZID=America/Chicago:20221024T174500
DTEND;TZID=America/Chicago:20221024T184500
LOCATION:Development Homes\, Inc. 3880 South Columbia Road  - Founders Room
SUMMARY:Gaming Committee
END:VEVENT
END:VCALENDAR
