BEGIN:VCALENDAR
VERSION:2.0
PRODID:-//www.developmenthomes.org//NONSGML kigkonsult.se iCalcreator 2.30.
 10//
CALSCALE:GREGORIAN
METHOD:PUBLISH
UID:680f96b2-5a2b-4a40-b5dc-6e6e1c12df54
X-WR-CALDESC:
X-WR-RELCALID:a77be1a004881c4731616bfa097f1215
X-WR-TIMEZONE:America/Chicago
BEGIN:VTIMEZONE
TZID:America/Chicago
BEGIN:STANDARD
TZNAME:CST
DTSTART:20211107T020000
TZOFFSETFROM:-0500
TZOFFSETTO:-0600
RDATE:20221106T020000
RDATE:20231105T020000
END:STANDARD
BEGIN:DAYLIGHT
TZNAME:CDT
DTSTART:20220313T020000
TZOFFSETFROM:-0600
TZOFFSETTO:-0500
RDATE:20230312T020000
RDATE:20240310T020000
END:DAYLIGHT
END:VTIMEZONE
BEGIN:VEVENT
UID:335ed364-8ace-4d3e-97bb-2a29a01b0941
DTSTAMP:20260423T054032Z
DESCRIPTION:
DTSTART;TZID=America/Chicago:20221025T190000
DTEND;TZID=America/Chicago:20221025T210000
LOCATION:Development Homes\, Inc. 3880 South Columbia Road  - Founders Room
SUMMARY:Full Board Meeting
END:VEVENT
END:VCALENDAR
