BEGIN:VCALENDAR
VERSION:2.0
PRODID:-//www.developmenthomes.org//NONSGML kigkonsult.se iCalcreator 2.30.
 10//
CALSCALE:GREGORIAN
METHOD:PUBLISH
UID:1a7c93c6-a439-4849-9757-09b637fe830f
X-WR-CALDESC:
X-WR-RELCALID:678b1158eb7e290c6643a39ea9ed3618
X-WR-TIMEZONE:America/Chicago
BEGIN:VTIMEZONE
TZID:America/Chicago
BEGIN:STANDARD
TZNAME:CST
DTSTART:20211107T020000
TZOFFSETFROM:-0500
TZOFFSETTO:-0600
RDATE:20221106T020000
RDATE:20231105T020000
END:STANDARD
BEGIN:DAYLIGHT
TZNAME:CDT
DTSTART:20220313T020000
TZOFFSETFROM:-0600
TZOFFSETTO:-0500
RDATE:20230312T020000
RDATE:20240310T020000
END:DAYLIGHT
END:VTIMEZONE
BEGIN:VEVENT
UID:9df4532d-7f4d-4eef-96e4-bc56b8f7c8cd
DTSTAMP:20260423T054332Z
DESCRIPTION:
DTSTART;TZID=America/Chicago:20221026T120000
DTEND;TZID=America/Chicago:20221026T140000
LOCATION:Alerus Center
SUMMARY:Employee Recognition Banquet
END:VEVENT
END:VCALENDAR
