BEGIN:VCALENDAR
VERSION:2.0
PRODID:-//www.developmenthomes.org//NONSGML kigkonsult.se iCalcreator 2.30.
 10//
CALSCALE:GREGORIAN
METHOD:PUBLISH
UID:73d66f08-d5ee-42b7-ac8c-d9aec0a08d05
X-WR-CALDESC:
X-WR-RELCALID:4c7037a686bb166717c0f5b6b44cba69
X-WR-TIMEZONE:America/Chicago
BEGIN:VTIMEZONE
TZID:America/Chicago
BEGIN:STANDARD
TZNAME:CST
DTSTART:20221106T020000
TZOFFSETFROM:-0500
TZOFFSETTO:-0600
RDATE:20231105T020000
END:STANDARD
BEGIN:DAYLIGHT
TZNAME:CDT
DTSTART:20220313T020000
TZOFFSETFROM:-0600
TZOFFSETTO:-0500
RDATE:20230312T020000
RDATE:20240310T020000
END:DAYLIGHT
END:VTIMEZONE
BEGIN:VEVENT
UID:e8fff430-d7c2-42a1-baf6-23a2bf3168e9
DTSTAMP:20260423T035752Z
DESCRIPTION:
DTSTART;TZID=America/Chicago:20221128T120000
DTEND;TZID=America/Chicago:20221128T130000
LOCATION:Education Center
SUMMARY:Executive Committee
END:VEVENT
END:VCALENDAR
