BEGIN:VCALENDAR
VERSION:2.0
PRODID:-//www.developmenthomes.org//NONSGML kigkonsult.se iCalcreator 2.30.
 10//
CALSCALE:GREGORIAN
METHOD:PUBLISH
UID:0fabd7e3-7ccc-4c73-a781-213cd614b9bf
X-WR-CALDESC:
X-WR-RELCALID:a89bdea8f9e5ea7dd9f5ffd5a762318c
X-WR-TIMEZONE:America/Chicago
BEGIN:VTIMEZONE
TZID:America/Chicago
BEGIN:STANDARD
TZNAME:CST
DTSTART:20221106T020000
TZOFFSETFROM:-0500
TZOFFSETTO:-0600
RDATE:20231105T020000
END:STANDARD
BEGIN:DAYLIGHT
TZNAME:CDT
DTSTART:20220313T020000
TZOFFSETFROM:-0600
TZOFFSETTO:-0500
RDATE:20230312T020000
RDATE:20240310T020000
END:DAYLIGHT
END:VTIMEZONE
BEGIN:VEVENT
UID:e66e7b68-61c2-4b58-badb-0d0dc4776330
DTSTAMP:20260423T040449Z
DESCRIPTION:
DTSTART;TZID=America/Chicago:20221129T190000
DTEND;TZID=America/Chicago:20221129T210000
LOCATION:Education Center
SUMMARY:Full Board Meeting
END:VEVENT
END:VCALENDAR
