BEGIN:VCALENDAR
VERSION:2.0
PRODID:-//www.developmenthomes.org//NONSGML kigkonsult.se iCalcreator 2.30.
 10//
CALSCALE:GREGORIAN
METHOD:PUBLISH
UID:5a03b9cf-1ab4-4fe1-96f7-bf6dd03b2cc3
X-WR-CALDESC:
X-WR-RELCALID:6e792f632ef96a867afebae69ba331be
X-WR-TIMEZONE:America/Chicago
BEGIN:VTIMEZONE
TZID:America/Chicago
BEGIN:STANDARD
TZNAME:CST
DTSTART:20221106T020000
TZOFFSETFROM:-0500
TZOFFSETTO:-0600
RDATE:20231105T020000
END:STANDARD
BEGIN:DAYLIGHT
TZNAME:CDT
DTSTART:20220313T020000
TZOFFSETFROM:-0600
TZOFFSETTO:-0500
RDATE:20230312T020000
RDATE:20240310T020000
END:DAYLIGHT
END:VTIMEZONE
BEGIN:VEVENT
UID:6b61d8dc-baaf-4af5-99fb-bd004726434a
DTSTAMP:20260423T042429Z
DESCRIPTION:
DTSTART;TZID=America/Chicago:20221129T174500
DTEND;TZID=America/Chicago:20221129T184500
LOCATION:Founders Room
SUMMARY:Gaming Committee
END:VEVENT
END:VCALENDAR
