BEGIN:VCALENDAR
VERSION:2.0
PRODID:-//www.developmenthomes.org//NONSGML kigkonsult.se iCalcreator 2.30.
 10//
CALSCALE:GREGORIAN
METHOD:PUBLISH
UID:259cfe88-293a-4152-9a84-4e740616c9ad
X-WR-CALDESC:Please RSVP by calling Joan Karpenko at 701.330.8641 or email 
 joan@fvnd.org\n
X-WR-RELCALID:d72d3d3ebf386a46b6b1158868dc9368
X-WR-TIMEZONE:America/Chicago
BEGIN:VTIMEZONE
TZID:America/Chicago
BEGIN:STANDARD
TZNAME:CST
DTSTART:20221106T020000
TZOFFSETFROM:-0500
TZOFFSETTO:-0600
RDATE:20231105T020000
END:STANDARD
BEGIN:DAYLIGHT
TZNAME:CDT
DTSTART:20220313T020000
TZOFFSETFROM:-0600
TZOFFSETTO:-0500
RDATE:20230312T020000
RDATE:20240310T020000
END:DAYLIGHT
END:VTIMEZONE
BEGIN:VEVENT
UID:00a104e4-eb8a-49bb-b91d-9c4a774d45f4
DTSTAMP:20260423T023016Z
DESCRIPTION:Please RSVP by calling Joan Karpenko at 701.330.8641 or email j
 oan@fvnd.org\n
DTSTART;TZID=America/Chicago:20221215T173000
DTEND;TZID=America/Chicago:20221215T193000
LOCATION:1300 South Washington Street (Former Eide Motors Location)\, Grand
  Forks\, ND 58201 US
SUMMARY:TEEN NIGHT OUT
END:VEVENT
END:VCALENDAR
