BEGIN:VCALENDAR
VERSION:2.0
PRODID:-//www.developmenthomes.org//NONSGML kigkonsult.se iCalcreator 2.30.
 10//
CALSCALE:GREGORIAN
METHOD:PUBLISH
UID:2955005b-4da4-40c4-a640-9de9bb403e65
X-WR-CALDESC:
X-WR-RELCALID:b4ad01ab49a89db385aabfa47abdfa98
X-WR-TIMEZONE:America/Chicago
BEGIN:VTIMEZONE
TZID:America/Chicago
BEGIN:STANDARD
TZNAME:CST
DTSTART:20221106T020000
TZOFFSETFROM:-0500
TZOFFSETTO:-0600
RDATE:20231105T020000
END:STANDARD
BEGIN:DAYLIGHT
TZNAME:CDT
DTSTART:20220313T020000
TZOFFSETFROM:-0600
TZOFFSETTO:-0500
RDATE:20230312T020000
RDATE:20240310T020000
END:DAYLIGHT
END:VTIMEZONE
BEGIN:VEVENT
UID:d43c801e-5ab1-469c-9ca6-a5e14cf6ea17
DTSTAMP:20260423T022803Z
DESCRIPTION:
DTSTART;TZID=America/Chicago:20221219T080000
DTEND;TZID=America/Chicago:20221219T170000
LOCATION:
SUMMARY:Holiday Spirit Day
END:VEVENT
END:VCALENDAR
