BEGIN:VCALENDAR
VERSION:2.0
PRODID:-//www.developmenthomes.org//NONSGML kigkonsult.se iCalcreator 2.30.
 10//
CALSCALE:GREGORIAN
METHOD:PUBLISH
UID:252aecda-c521-456b-aa1f-4331eb4c1e6d
X-WR-CALDESC:
X-WR-RELCALID:8e06af6b8163c0c7bb55d97d9d147fd6
X-WR-TIMEZONE:America/Chicago
BEGIN:VTIMEZONE
TZID:America/Chicago
BEGIN:STANDARD
TZNAME:CST
DTSTART:20221106T020000
TZOFFSETFROM:-0500
TZOFFSETTO:-0600
RDATE:20231105T020000
END:STANDARD
BEGIN:DAYLIGHT
TZNAME:CDT
DTSTART:20220313T020000
TZOFFSETFROM:-0600
TZOFFSETTO:-0500
RDATE:20230312T020000
RDATE:20240310T020000
END:DAYLIGHT
END:VTIMEZONE
BEGIN:VEVENT
UID:4986994f-9b07-48a6-9a15-2e35a6d087db
DTSTAMP:20260423T023057Z
DESCRIPTION:
DTSTART;TZID=America/Chicago:20221220T110000
DTEND;TZID=America/Chicago:20221220T170000
LOCATION:
SUMMARY:Secret Santa Gift Exchange
END:VEVENT
END:VCALENDAR
