BEGIN:VCALENDAR
VERSION:2.0
PRODID:-//www.developmenthomes.org//NONSGML kigkonsult.se iCalcreator 2.30.
 10//
CALSCALE:GREGORIAN
METHOD:PUBLISH
UID:3b114e03-ae1a-40a2-a001-3dbd4b233716
X-WR-CALDESC:
X-WR-RELCALID:355e7567c323460d10afc18c21db4931
X-WR-TIMEZONE:America/Chicago
BEGIN:VTIMEZONE
TZID:America/Chicago
BEGIN:STANDARD
TZNAME:CST
DTSTART:20221106T020000
TZOFFSETFROM:-0500
TZOFFSETTO:-0600
RDATE:20231105T020000
END:STANDARD
BEGIN:DAYLIGHT
TZNAME:CDT
DTSTART:20220313T020000
TZOFFSETFROM:-0600
TZOFFSETTO:-0500
RDATE:20230312T020000
RDATE:20240310T020000
END:DAYLIGHT
END:VTIMEZONE
BEGIN:VEVENT
UID:f44c6032-d36d-456d-83da-88bef51ba3b1
DTSTAMP:20260423T022735Z
DESCRIPTION:
DTSTART;TZID=America/Chicago:20221221T080000
DTEND;TZID=America/Chicago:20221221T170000
LOCATION:
SUMMARY:Holiday Hats/Potluck
END:VEVENT
END:VCALENDAR
