BEGIN:VCALENDAR
VERSION:2.0
PRODID:-//www.developmenthomes.org//NONSGML kigkonsult.se iCalcreator 2.30.
 10//
CALSCALE:GREGORIAN
METHOD:PUBLISH
UID:91080b03-360b-4967-aa06-a08539da91c0
X-WR-CALDESC:
X-WR-RELCALID:6c72ab43e082953c524b42b09c691996
X-WR-TIMEZONE:America/Chicago
BEGIN:VTIMEZONE
TZID:America/Chicago
BEGIN:STANDARD
TZNAME:CST
DTSTART:20221106T020000
TZOFFSETFROM:-0500
TZOFFSETTO:-0600
RDATE:20231105T020000
END:STANDARD
BEGIN:DAYLIGHT
TZNAME:CDT
DTSTART:20220313T020000
TZOFFSETFROM:-0600
TZOFFSETTO:-0500
RDATE:20230312T020000
RDATE:20240310T020000
END:DAYLIGHT
END:VTIMEZONE
BEGIN:VEVENT
UID:b98facc3-441d-444a-b181-4ecc09e35191
DTSTAMP:20260423T023057Z
DESCRIPTION:
DTSTART;TZID=America/Chicago:20221222T080000
DTEND;TZID=America/Chicago:20221222T170000
LOCATION:
SUMMARY:Cookie Exchange
END:VEVENT
END:VCALENDAR
