BEGIN:VCALENDAR
VERSION:2.0
PRODID:-//www.developmenthomes.org//NONSGML kigkonsult.se iCalcreator 2.30.
 10//
CALSCALE:GREGORIAN
METHOD:PUBLISH
UID:c9c22f47-0b0e-4e5e-a1ff-bf60c9878141
X-WR-CALDESC:
X-WR-RELCALID:97a504d8768e26a0034a5ae51a392d24
X-WR-TIMEZONE:America/Chicago
BEGIN:VTIMEZONE
TZID:America/Chicago
BEGIN:STANDARD
TZNAME:CST
DTSTART:20221106T020000
TZOFFSETFROM:-0500
TZOFFSETTO:-0600
RDATE:20231105T020000
END:STANDARD
BEGIN:DAYLIGHT
TZNAME:CDT
DTSTART:20220313T020000
TZOFFSETFROM:-0600
TZOFFSETTO:-0500
RDATE:20230312T020000
RDATE:20240310T020000
END:DAYLIGHT
END:VTIMEZONE
BEGIN:VEVENT
UID:89c4ec3d-7604-4550-94b5-cdcfbbc2c2f0
DTSTAMP:20260423T022858Z
DESCRIPTION:
DTSTART;TZID=America/Chicago:20221222T080000
DTEND;TZID=America/Chicago:20221222T170000
LOCATION:
SUMMARY:Ugly XMas Sweater Day
END:VEVENT
END:VCALENDAR
