BEGIN:VCALENDAR
VERSION:2.0
PRODID:-//www.developmenthomes.org//NONSGML kigkonsult.se iCalcreator 2.30.
 10//
CALSCALE:GREGORIAN
METHOD:PUBLISH
UID:9730a551-a74c-42da-80c0-196798cac436
X-WR-CALDESC:
X-WR-RELCALID:c8af2c6c645a321e3b0b7dc0e5ac4c14
X-WR-TIMEZONE:America/Chicago
BEGIN:VTIMEZONE
TZID:America/Chicago
BEGIN:STANDARD
TZNAME:CST
DTSTART:20221106T020000
TZOFFSETFROM:-0500
TZOFFSETTO:-0600
RDATE:20231105T020000
END:STANDARD
BEGIN:DAYLIGHT
TZNAME:CDT
DTSTART:20220313T020000
TZOFFSETFROM:-0600
TZOFFSETTO:-0500
RDATE:20230312T020000
RDATE:20240310T020000
END:DAYLIGHT
END:VTIMEZONE
BEGIN:VEVENT
UID:aa7e39ca-b8ed-4d55-b4c1-03d4b79d8c76
DTSTAMP:20260423T022935Z
DESCRIPTION:
DTSTART;TZID=America/Chicago:20221223T080000
DTEND;TZID=America/Chicago:20221223T150000
LOCATION:
SUMMARY:Hot Cocoa Bar
END:VEVENT
END:VCALENDAR
