BEGIN:VCALENDAR
VERSION:2.0
PRODID:-//www.developmenthomes.org//NONSGML kigkonsult.se iCalcreator 2.30.
 10//
CALSCALE:GREGORIAN
METHOD:PUBLISH
UID:3971b87d-b3c3-4ff6-b997-dbc92fc199e3
X-WR-CALDESC:The Main Office is Closed Friday Dec 23rd and Monday Dec 26th 
 in observance of the Christmas Holiday.
X-WR-RELCALID:15c665bd131e5fed4e7b1e220ea77017
X-WR-TIMEZONE:America/Chicago
BEGIN:VTIMEZONE
TZID:America/Chicago
BEGIN:STANDARD
TZNAME:CST
DTSTART:20221106T020000
TZOFFSETFROM:-0500
TZOFFSETTO:-0600
RDATE:20231105T020000
END:STANDARD
BEGIN:DAYLIGHT
TZNAME:CDT
DTSTART:20220313T020000
TZOFFSETFROM:-0600
TZOFFSETTO:-0500
RDATE:20230312T020000
RDATE:20240310T020000
END:DAYLIGHT
END:VTIMEZONE
BEGIN:VEVENT
UID:4f398f8d-0750-47d4-8840-58649cc4a07c
DTSTAMP:20260423T022858Z
DESCRIPTION:The Main Office is Closed Friday Dec 23rd and Monday Dec 26th i
 n observance of the Christmas Holiday.
DTSTART;TZID=America/Chicago:20221223T150000
DTEND;TZID=America/Chicago:20221227T080000
LOCATION:
SUMMARY:Main Office Holiday Closure
END:VEVENT
END:VCALENDAR
