BEGIN:VCALENDAR
VERSION:2.0
PRODID:-//www.developmenthomes.org//NONSGML kigkonsult.se iCalcreator 2.30.
 10//
CALSCALE:GREGORIAN
METHOD:PUBLISH
UID:c84cc94f-ea4c-4c60-a7cc-b1348d5b11c4
X-WR-CALDESC:The main office will be closed on Friday Dec 30th at 3pm and M
 onday Jan 2nd in observance of the new year
X-WR-RELCALID:8368f5a3d82fbab5d4ee84f75848ba41
X-WR-TIMEZONE:America/Chicago
BEGIN:VTIMEZONE
TZID:America/Chicago
BEGIN:STANDARD
TZNAME:CST
DTSTART:20221106T020000
TZOFFSETFROM:-0500
TZOFFSETTO:-0600
RDATE:20231105T020000
END:STANDARD
BEGIN:DAYLIGHT
TZNAME:CDT
DTSTART:20220313T020000
TZOFFSETFROM:-0600
TZOFFSETTO:-0500
RDATE:20230312T020000
RDATE:20240310T020000
END:DAYLIGHT
END:VTIMEZONE
BEGIN:VEVENT
UID:e3d3e8ea-c363-4496-8561-7789ef062617
DTSTAMP:20260423T010356Z
DESCRIPTION:The main office will be closed on Friday Dec 30th at 3pm and Mo
 nday Jan 2nd in observance of the new year
DTSTART;TZID=America/Chicago:20221230T150000
DTEND;TZID=America/Chicago:20230103T080000
LOCATION:
SUMMARY:Main Office Holiday Closure
END:VEVENT
END:VCALENDAR
