BEGIN:VCALENDAR
VERSION:2.0
PRODID:-//www.developmenthomes.org//NONSGML kigkonsult.se iCalcreator 2.30.
 10//
CALSCALE:GREGORIAN
METHOD:PUBLISH
UID:b5a8e52e-ec69-4c5f-9267-ebc2a3b7c2ec
X-WR-CALDESC:Development Homes\, Inc.\n3880 South Columbia Road\nGrand Fork
 s\, ND 58201
X-WR-RELCALID:2069c981786b4b6b9d6f4cf98d6ee8f9
X-WR-TIMEZONE:America/Chicago
BEGIN:VTIMEZONE
TZID:America/Chicago
BEGIN:STANDARD
TZNAME:CST
DTSTART:20221106T020000
TZOFFSETFROM:-0500
TZOFFSETTO:-0600
RDATE:20231105T020000
END:STANDARD
BEGIN:DAYLIGHT
TZNAME:CDT
DTSTART:20220313T020000
TZOFFSETFROM:-0600
TZOFFSETTO:-0500
RDATE:20230312T020000
RDATE:20240310T020000
END:DAYLIGHT
END:VTIMEZONE
BEGIN:VEVENT
UID:ddf0e78f-bb27-42c7-9d7e-9ee35f9ceb97
DTSTAMP:20260423T010758Z
DESCRIPTION:Development Homes\, Inc.\n3880 South Columbia Road\nGrand Forks
 \, ND 58201
DTSTART;TZID=America/Chicago:20230109T110000
DTEND;TZID=America/Chicago:20230109T123000
LOCATION:
SUMMARY:HR Committee
END:VEVENT
END:VCALENDAR
