BEGIN:VCALENDAR
VERSION:2.0
PRODID:-//www.developmenthomes.org//NONSGML kigkonsult.se iCalcreator 2.30.
 10//
CALSCALE:GREGORIAN
METHOD:PUBLISH
UID:7d842229-1897-4e22-b0d1-2d5981c8554c
X-WR-CALDESC:Monday January 16th\, 2023 the Main office will be closed in o
 bservance of Martin Luther King Jr's Day
X-WR-RELCALID:8dcb6a1255aef1198a892ea8c997df70
X-WR-TIMEZONE:America/Chicago
BEGIN:VTIMEZONE
TZID:America/Chicago
BEGIN:STANDARD
TZNAME:CST
DTSTART:20221106T020000
TZOFFSETFROM:-0500
TZOFFSETTO:-0600
RDATE:20231105T020000
END:STANDARD
BEGIN:DAYLIGHT
TZNAME:CDT
DTSTART:20220313T020000
TZOFFSETFROM:-0600
TZOFFSETTO:-0500
RDATE:20230312T020000
RDATE:20240310T020000
END:DAYLIGHT
END:VTIMEZONE
BEGIN:VEVENT
UID:9ef9953a-6fc3-4470-8be8-13235e963017
DTSTAMP:20260423T010356Z
DESCRIPTION:Monday January 16th\, 2023 the Main office will be closed in ob
 servance of Martin Luther King Jr's Day
DTSTART;TZID=America/Chicago:20230116T080000
DTEND;TZID=America/Chicago:20230116T170000
LOCATION:
SUMMARY:Martin Luther King Jr Day
END:VEVENT
END:VCALENDAR
