BEGIN:VCALENDAR
VERSION:2.0
PRODID:-//www.developmenthomes.org//NONSGML kigkonsult.se iCalcreator 2.30.
 10//
CALSCALE:GREGORIAN
METHOD:PUBLISH
UID:58a33472-d6a9-4b8a-a1f9-d0c36af47fec
X-WR-CALDESC:Development Homes\, Inc.\n3880 South Columbia Road\nGrand Fork
 s\, ND 58201
X-WR-RELCALID:8affddb0912f95c0c03414492303e018
X-WR-TIMEZONE:America/Chicago
BEGIN:VTIMEZONE
TZID:America/Chicago
BEGIN:STANDARD
TZNAME:CST
DTSTART:20221106T020000
TZOFFSETFROM:-0500
TZOFFSETTO:-0600
RDATE:20231105T020000
END:STANDARD
BEGIN:DAYLIGHT
TZNAME:CDT
DTSTART:20220313T020000
TZOFFSETFROM:-0600
TZOFFSETTO:-0500
RDATE:20230312T020000
RDATE:20240310T020000
END:DAYLIGHT
END:VTIMEZONE
BEGIN:VEVENT
UID:3b8a2fcd-9bbb-40e3-95df-1e90295fc98a
DTSTAMP:20260423T010503Z
DESCRIPTION:Development Homes\, Inc.\n3880 South Columbia Road\nGrand Forks
 \, ND 58201
DTSTART;TZID=America/Chicago:20230119T173000
DTEND;TZID=America/Chicago:20230119T190000
LOCATION:
SUMMARY:TEEN NIGHT OUT
END:VEVENT
END:VCALENDAR
