BEGIN:VCALENDAR
VERSION:2.0
PRODID:-//www.developmenthomes.org//NONSGML kigkonsult.se iCalcreator 2.30.
 10//
CALSCALE:GREGORIAN
METHOD:PUBLISH
UID:5291f0d5-d12b-42f2-9ddc-5234b04e20f5
X-WR-CALDESC:
X-WR-RELCALID:ceab9cde0ef5e64d4cc1579c7cc1e5cd
X-WR-TIMEZONE:America/Chicago
BEGIN:VTIMEZONE
TZID:America/Chicago
BEGIN:STANDARD
TZNAME:CST
DTSTART:20221106T020000
TZOFFSETFROM:-0500
TZOFFSETTO:-0600
RDATE:20231105T020000
END:STANDARD
BEGIN:DAYLIGHT
TZNAME:CDT
DTSTART:20220313T020000
TZOFFSETFROM:-0600
TZOFFSETTO:-0500
RDATE:20230312T020000
RDATE:20240310T020000
END:DAYLIGHT
END:VTIMEZONE
BEGIN:VEVENT
UID:147ee309-46a4-4080-aa93-a8c386540d91
DTSTAMP:20260423T010758Z
DESCRIPTION:
DTSTART;TZID=America/Chicago:20230130T120000
DTEND;TZID=America/Chicago:20230130T130000
LOCATION:3880 South Columbia Road\, Grand Forks\, ND 58201 US
SUMMARY:Executive
END:VEVENT
END:VCALENDAR
