BEGIN:VCALENDAR
VERSION:2.0
PRODID:-//www.developmenthomes.org//NONSGML kigkonsult.se iCalcreator 2.30.
 10//
CALSCALE:GREGORIAN
METHOD:PUBLISH
UID:2790f51b-5666-4c16-82fd-1cd042f2e2f8
X-WR-CALDESC:Snacks and Drinks will be provided.\nDoor prizes for the prese
 ntation.\nRSVP to Cindy @701-335-4031 by 2/3
X-WR-RELCALID:d8dbcfdb0045caef1152ed7084e2eed1
X-WR-TIMEZONE:America/Chicago
BEGIN:VTIMEZONE
TZID:America/Chicago
BEGIN:STANDARD
TZNAME:CST
DTSTART:20221106T020000
TZOFFSETFROM:-0500
TZOFFSETTO:-0600
RDATE:20231105T020000
END:STANDARD
BEGIN:DAYLIGHT
TZNAME:CDT
DTSTART:20220313T020000
TZOFFSETFROM:-0600
TZOFFSETTO:-0500
RDATE:20230312T020000
RDATE:20240310T020000
END:DAYLIGHT
END:VTIMEZONE
BEGIN:VEVENT
UID:e9e2befa-2977-437c-a5b2-d37eace5d372
DTSTAMP:20260422T234533Z
DESCRIPTION:Snacks and Drinks will be provided.\nDoor prizes for the presen
 tation.\nRSVP to Cindy @701-335-4031 by 2/3
DTSTART;TZID=America/Chicago:20230213T101500
DTEND;TZID=America/Chicago:20230213T111500
LOCATION:3880 South Columbia Road\, Grand Forks\, ND 58201 US
SUMMARY:Rights Presentation
END:VEVENT
END:VCALENDAR
